BEGIN:VCALENDAR
VERSION:2.0
PRODID:-//Old Bus Depot Market - ECPv6.15.20//NONSGML v1.0//EN
CALSCALE:GREGORIAN
METHOD:PUBLISH
X-WR-CALNAME:Old Bus Depot Market
X-ORIGINAL-URL:https://obdm.com.au
X-WR-CALDESC:Events for Old Bus Depot Market
REFRESH-INTERVAL;VALUE=DURATION:PT1H
X-Robots-Tag:noindex
X-PUBLISHED-TTL:PT1H
BEGIN:VTIMEZONE
TZID:Australia/Melbourne
BEGIN:STANDARD
TZOFFSETFROM:+1100
TZOFFSETTO:+1000
TZNAME:AEST
DTSTART:20240406T160000
END:STANDARD
BEGIN:DAYLIGHT
TZOFFSETFROM:+1000
TZOFFSETTO:+1100
TZNAME:AEDT
DTSTART:20241005T160000
END:DAYLIGHT
BEGIN:STANDARD
TZOFFSETFROM:+1100
TZOFFSETTO:+1000
TZNAME:AEST
DTSTART:20250405T160000
END:STANDARD
BEGIN:DAYLIGHT
TZOFFSETFROM:+1000
TZOFFSETTO:+1100
TZNAME:AEDT
DTSTART:20251004T160000
END:DAYLIGHT
BEGIN:STANDARD
TZOFFSETFROM:+1100
TZOFFSETTO:+1000
TZNAME:AEST
DTSTART:20260404T160000
END:STANDARD
BEGIN:DAYLIGHT
TZOFFSETFROM:+1000
TZOFFSETTO:+1100
TZNAME:AEDT
DTSTART:20261003T160000
END:DAYLIGHT
END:VTIMEZONE
BEGIN:VEVENT
DTSTART;TZID=Australia/Melbourne:20250720T100000
DTEND;TZID=Australia/Melbourne:20250720T120000
DTSTAMP:20260423T012447
CREATED:20250625T063029Z
LAST-MODIFIED:20260211T050437Z
UID:10002814-1753005600-1753012800@obdm.com.au
SUMMARY:Wild Folds: Origami Animals
DESCRIPTION:This workshop is all about bringing animals to life through paper folding. Designed for beginners\, you’ll be guided step by step through 3–5 different animal models\, learning how simple folds can create character\, movement\, and expression. By the end of the session\, you’ll have a small collection of animals you’ve folded yourself. \n🖐️ This Workshop Focus:\n– Fold 3–5 different origami animals\n– Learn how folds shape form\, balance\, and detail\n– Build confidence following slightly varied folding sequences \n🔗 Why Join?\n– Beginner-friendly with a playful focus\n– A great way to practice foundational folds\n– Fun\, creative\, and hands-on \nIntro to Origami Workshop\n– Date: May 24th\n– Time: 10am – 12pm\n– Location: Old Bus Depot Market – Kingston\n– Cost: Just a gold coin donation! \n  \n🎟️ Spots are limited – Sign up here! \nhttps://www.focusfolding.com.au/origami-workshop \n  \n 
URL:https://obdm.com.au/obdmevent/focus-folding-fold-function-origami-boxes-containers-workshop-%f0%9f%93%a6/2025-07-20/
LOCATION:ACT
ATTACH;FMTTYPE=image/png:https://obdm.com.au/wp-content/uploads/2025/06/Logo-Facebook-event-cover-size-e1750816362347.png
END:VEVENT
END:VCALENDAR